BEGIN:VCALENDAR
VERSION:2.0
PRODID:-//Nottingham Schools Trust - ECPv4.6.26//NONSGML v1.0//EN
CALSCALE:GREGORIAN
METHOD:PUBLISH
X-WR-CALNAME:Nottingham Schools Trust
X-ORIGINAL-URL:http://www.nottinghamschoolstrust.org.uk
X-WR-CALDESC:Events for Nottingham Schools Trust
BEGIN:VEVENT
DTSTART;VALUE=DATE:20191015
DTEND;VALUE=DATE:20191016
DTSTAMP:20260424T140630
CREATED:20191002T104608Z
LAST-MODIFIED:20191002T104608Z
UID:3606-1571097600-1571183999@www.nottinghamschoolstrust.org.uk
SUMMARY:ABLE Autumn Term Conference
DESCRIPTION:
URL:http://www.nottinghamschoolstrust.org.uk/event/able-autumn-term-conference/
LOCATION:Eastwood Hall\, ng16 3SS\, United Kingdom
END:VEVENT
END:VCALENDAR