BEGIN:VCALENDAR
VERSION:2.0
PRODID:-//Nottingham Schools Trust - ECPv4.6.26//NONSGML v1.0//EN
CALSCALE:GREGORIAN
METHOD:PUBLISH
X-WR-CALNAME:Nottingham Schools Trust
X-ORIGINAL-URL:http://www.nottinghamschoolstrust.org.uk
X-WR-CALDESC:Events for Nottingham Schools Trust
BEGIN:VEVENT
DTSTART;VALUE=DATE:20200319
DTEND;VALUE=DATE:20200320
DTSTAMP:20260425T034417
CREATED:20200107T114740Z
LAST-MODIFIED:20200107T114740Z
UID:3834-1584576000-1584662399@www.nottinghamschoolstrust.org.uk
SUMMARY:Adults Mental Heath First Aid Training (Day 2 of 2)
DESCRIPTION:Contact Emily.Humphreys@nottinghamschoolstrust.org.uk for further information or to book. \n
URL:http://www.nottinghamschoolstrust.org.uk/event/adults-mental-heath-first-aid-training-day-2-of-2/
END:VEVENT
END:VCALENDAR