BEGIN:VCALENDAR
VERSION:2.0
PRODID:-//Nottingham Schools Trust - ECPv4.6.26//NONSGML v1.0//EN
CALSCALE:GREGORIAN
METHOD:PUBLISH
X-WR-CALNAME:Nottingham Schools Trust
X-ORIGINAL-URL:http://www.nottinghamschoolstrust.org.uk
X-WR-CALDESC:Events for Nottingham Schools Trust
BEGIN:VEVENT
DTSTART;TZID=Europe/London:20211014T133000
DTEND;TZID=Europe/London:20211014T153000
DTSTAMP:20260419T220100
CREATED:20210520T095835Z
LAST-MODIFIED:20210520T095835Z
UID:6552-1634218200-1634225400@www.nottinghamschoolstrust.org.uk
SUMMARY:Advanced SENCO Pathway Training - Session 2
DESCRIPTION:
URL:http://www.nottinghamschoolstrust.org.uk/event/advanced-senco-pathway-training-session-2/
LOCATION:Nottingham Nursery School & Training Centre\, Denman Street West\, Radford\, Nottingham\, NG7 3AB
END:VEVENT
END:VCALENDAR