BEGIN:VCALENDAR
VERSION:2.0
PRODID:-//Nottingham Schools Trust - ECPv4.6.26//NONSGML v1.0//EN
CALSCALE:GREGORIAN
METHOD:PUBLISH
X-WR-CALNAME:Nottingham Schools Trust
X-ORIGINAL-URL:http://www.nottinghamschoolstrust.org.uk
X-WR-CALDESC:Events for Nottingham Schools Trust
BEGIN:VEVENT
DTSTART;TZID=Europe/London:20260608T133000
DTEND;TZID=Europe/London:20260608T153000
DTSTAMP:20260422T092156
CREATED:20250703T080349Z
LAST-MODIFIED:20250722T141814Z
UID:10907-1780925400-1780932600@www.nottinghamschoolstrust.org.uk
SUMMARY:Art Network Meeting
DESCRIPTION:For more info / to book: Art Network Meeting – Universe \n
URL:http://www.nottinghamschoolstrust.org.uk/event/art-network-meeting-12/
END:VEVENT
END:VCALENDAR