BEGIN:VCALENDAR
VERSION:2.0
PRODID:-//Nottingham Schools Trust - ECPv4.6.26//NONSGML v1.0//EN
CALSCALE:GREGORIAN
METHOD:PUBLISH
X-WR-CALNAME:Nottingham Schools Trust
X-ORIGINAL-URL:http://www.nottinghamschoolstrust.org.uk
X-WR-CALDESC:Events for Nottingham Schools Trust
BEGIN:VEVENT
DTSTART;TZID=Europe/London:20190605T140000
DTEND;TZID=Europe/London:20190605T163000
DTSTAMP:20260421T112133
CREATED:20180907T094055Z
LAST-MODIFIED:20190426T094818Z
UID:1514-1559743200-1559752200@www.nottinghamschoolstrust.org.uk
SUMMARY:Art Network Meeting
DESCRIPTION:This session will be facilitated by Martha Toogood\, Diana Schwanz and Kerry Whiting\, and will involve practical printing activities as well as time for discussion and questions. \n
URL:http://www.nottinghamschoolstrust.org.uk/event/art-network-meeting-3/
LOCATION:Nottingham Nursery School & Training Centre\, Denman Street West\, Radford\, Nottingham\, NG7 3AB
END:VEVENT
END:VCALENDAR