BEGIN:VCALENDAR
VERSION:2.0
PRODID:-//Nottingham Schools Trust - ECPv4.6.26//NONSGML v1.0//EN
CALSCALE:GREGORIAN
METHOD:PUBLISH
X-WR-CALNAME:Nottingham Schools Trust
X-ORIGINAL-URL:http://www.nottinghamschoolstrust.org.uk
X-WR-CALDESC:Events for Nottingham Schools Trust
BEGIN:VEVENT
DTSTART;TZID=Europe/London:20210623T160000
DTEND;TZID=Europe/London:20210623T173000
DTSTAMP:20260420T061116
CREATED:20210504T090202Z
LAST-MODIFIED:20210504T090202Z
UID:6439-1624464000-1624469400@www.nottinghamschoolstrust.org.uk
SUMMARY:Art Network Meeting
DESCRIPTION:For further details or to book a place visit our Eventbrite page: https://www.eventbrite.com/o/nottingham-schools-trust-19990165449 \n
URL:http://www.nottinghamschoolstrust.org.uk/event/art-network-meeting-7/
LOCATION:Nottingham Nursery School & Training Centre\, Denman Street West\, Radford\, Nottingham\, NG7 3AB
END:VEVENT
END:VCALENDAR