BEGIN:VCALENDAR
VERSION:2.0
PRODID:-//Nottingham Schools Trust - ECPv4.6.26//NONSGML v1.0//EN
CALSCALE:GREGORIAN
METHOD:PUBLISH
X-WR-CALNAME:Nottingham Schools Trust
X-ORIGINAL-URL:http://www.nottinghamschoolstrust.org.uk
X-WR-CALDESC:Events for Nottingham Schools Trust
BEGIN:VEVENT
DTSTART;TZID=Europe/London:20210922T153000
DTEND;TZID=Europe/London:20210922T173000
DTSTAMP:20260419T234553
CREATED:20210827T105713Z
LAST-MODIFIED:20210827T105713Z
UID:6895-1632324600-1632331800@www.nottinghamschoolstrust.org.uk
SUMMARY:Art Network Meeting
DESCRIPTION:For further details or to book visit our Eventbrite page here: https://www.eventbrite.com/o/nottingham-schools-trust-19990165449 \n
URL:http://www.nottinghamschoolstrust.org.uk/event/art-network-meeting-8/
END:VEVENT
END:VCALENDAR