BEGIN:VCALENDAR
VERSION:2.0
PRODID:-//Nottingham Schools Trust - ECPv4.6.26//NONSGML v1.0//EN
CALSCALE:GREGORIAN
METHOD:PUBLISH
X-WR-CALNAME:Nottingham Schools Trust
X-ORIGINAL-URL:http://www.nottinghamschoolstrust.org.uk
X-WR-CALDESC:Events for Nottingham Schools Trust
BEGIN:VEVENT
DTSTART;TZID=Europe/London:20201006T160000
DTEND;TZID=Europe/London:20201006T173000
DTSTAMP:20260422T104559
CREATED:20200902T080748Z
LAST-MODIFIED:20200902T080748Z
UID:4910-1602000000-1602005400@www.nottinghamschoolstrust.org.uk
SUMMARY:Art Network
DESCRIPTION:Further details and booking link to follow. \n
URL:http://www.nottinghamschoolstrust.org.uk/event/art-network/
END:VEVENT
END:VCALENDAR