BEGIN:VCALENDAR
VERSION:2.0
PRODID:-//Nottingham Schools Trust - ECPv4.6.26//NONSGML v1.0//EN
CALSCALE:GREGORIAN
METHOD:PUBLISH
X-WR-CALNAME:Nottingham Schools Trust
X-ORIGINAL-URL:http://www.nottinghamschoolstrust.org.uk
X-WR-CALDESC:Events for Nottingham Schools Trust
BEGIN:VEVENT
DTSTART;TZID=Europe/London:20190308T133000
DTEND;TZID=Europe/London:20190308T153000
DTSTAMP:20260421T141216
CREATED:20181121T145558Z
LAST-MODIFIED:20181212T110035Z
UID:1934-1552051800-1552059000@www.nottinghamschoolstrust.org.uk
SUMMARY:Assessment Leads Network Meeting
DESCRIPTION:Meeting will take place between 1.30pm and 3.30pm\, at the E-learning Centre. \nTo book a place please email Emily.humphreys@nottinghamschoolstrust.org.uk \n
URL:http://www.nottinghamschoolstrust.org.uk/event/assessment-leads-network-meeting-2/
LOCATION:e-Learning Centre
END:VEVENT
END:VCALENDAR