BEGIN:VCALENDAR
VERSION:2.0
PRODID:-//Nottingham Schools Trust - ECPv4.6.26//NONSGML v1.0//EN
CALSCALE:GREGORIAN
METHOD:PUBLISH
X-WR-CALNAME:Nottingham Schools Trust
X-ORIGINAL-URL:http://www.nottinghamschoolstrust.org.uk
X-WR-CALDESC:Events for Nottingham Schools Trust
BEGIN:VEVENT
DTSTART;TZID=Europe/London:20210301T123000
DTEND;TZID=Europe/London:20210301T160000
DTSTAMP:20260421T195427
CREATED:20201022T111931Z
LAST-MODIFIED:20201022T111931Z
UID:5362-1614601800-1614614400@www.nottinghamschoolstrust.org.uk
SUMMARY:Careering Ahead Programme for Middle Leaders - Session 2
DESCRIPTION:For further details/to book\, follow this link: https://www.eventbrite.com/e/careering-ahead-programme-for-middle-leaders-session-2-tickets-125472133529 \n
URL:http://www.nottinghamschoolstrust.org.uk/event/careering-ahead-programme-for-middle-leaders-session-2/
END:VEVENT
END:VCALENDAR