BEGIN:VCALENDAR
VERSION:2.0
PRODID:-//Nottingham Schools Trust - ECPv4.6.26//NONSGML v1.0//EN
CALSCALE:GREGORIAN
METHOD:PUBLISH
X-WR-CALNAME:Nottingham Schools Trust
X-ORIGINAL-URL:http://www.nottinghamschoolstrust.org.uk
X-WR-CALDESC:Events for Nottingham Schools Trust
BEGIN:VEVENT
DTSTART;TZID=Europe/London:20211116T040000
DTEND;TZID=Europe/London:20211116T173000
DTSTAMP:20260419T190616
CREATED:20210714T134119Z
LAST-MODIFIED:20210714T134644Z
UID:6806-1637035200-1637083800@www.nottinghamschoolstrust.org.uk
SUMMARY:Cluster Safeguarding Surgery Session
DESCRIPTION:For further details or to book please visit our Eventbrite page: https://www.eventbrite.com/o/nottingham-schools-trust-19990165449 \n
URL:http://www.nottinghamschoolstrust.org.uk/event/cluster-safeguarding-surgery-session/
LOCATION:Nottingham Nursery School & Training Centre\, Denman Street West\, Radford\, Nottingham\, NG7 3AB
END:VEVENT
END:VCALENDAR