BEGIN:VCALENDAR
VERSION:2.0
PRODID:-//Nottingham Schools Trust - ECPv4.6.26//NONSGML v1.0//EN
CALSCALE:GREGORIAN
METHOD:PUBLISH
X-WR-CALNAME:Nottingham Schools Trust
X-ORIGINAL-URL:http://www.nottinghamschoolstrust.org.uk
X-WR-CALDESC:Events for Nottingham Schools Trust
BEGIN:VEVENT
DTSTART;TZID=Europe/London:20250207T130000
DTEND;TZID=Europe/London:20250207T153000
DTSTAMP:20260420T060907
CREATED:20240815T145706Z
LAST-MODIFIED:20241204T124746Z
UID:10053-1738933200-1738942200@www.nottinghamschoolstrust.org.uk
SUMMARY:Curriculum Leads Network
DESCRIPTION:Booking link: https://www.universe.com/events/curriculum-leads-network-meeting-tickets-NHWZ4D \n
URL:http://www.nottinghamschoolstrust.org.uk/event/curriculum-leads-network-5/
LOCATION:Nottingham Nursery School & Training Centre\, Denman Street West\, Radford\, Nottingham\, NG7 3AB
END:VEVENT
END:VCALENDAR