BEGIN:VCALENDAR
VERSION:2.0
PRODID:-//Nottingham Schools Trust - ECPv4.6.26//NONSGML v1.0//EN
CALSCALE:GREGORIAN
METHOD:PUBLISH
X-WR-CALNAME:Nottingham Schools Trust
X-ORIGINAL-URL:http://www.nottinghamschoolstrust.org.uk
X-WR-CALDESC:Events for Nottingham Schools Trust
BEGIN:VEVENT
DTSTART;TZID=Europe/London:20260206T130000
DTEND;TZID=Europe/London:20260206T153000
DTSTAMP:20260421T105630
CREATED:20250701T130344Z
LAST-MODIFIED:20250701T130344Z
UID:10831-1770382800-1770391800@www.nottinghamschoolstrust.org.uk
SUMMARY:Curriculum Leads Network
DESCRIPTION:For more info / to book: Curriculum Leads Network Meeting – Universe \n
URL:http://www.nottinghamschoolstrust.org.uk/event/curriculum-leads-network-8/
END:VEVENT
END:VCALENDAR