BEGIN:VCALENDAR
VERSION:2.0
PRODID:-//Nottingham Schools Trust - ECPv4.6.26//NONSGML v1.0//EN
CALSCALE:GREGORIAN
METHOD:PUBLISH
X-WR-CALNAME:Nottingham Schools Trust
X-ORIGINAL-URL:http://www.nottinghamschoolstrust.org.uk
X-WR-CALDESC:Events for Nottingham Schools Trust
BEGIN:VEVENT
DTSTART;TZID=Europe/London:20210628T130000
DTEND;TZID=Europe/London:20210628T150000
DTSTAMP:20260420T060931
CREATED:20201120T125707Z
LAST-MODIFIED:20201120T125707Z
UID:5583-1624885200-1624892400@www.nottinghamschoolstrust.org.uk
SUMMARY:Digital Champion Pathway (Teaching and Learning) - Session 4
DESCRIPTION:
URL:http://www.nottinghamschoolstrust.org.uk/event/digital-champion-pathway-teaching-and-learning-session-4/
END:VEVENT
END:VCALENDAR