BEGIN:VCALENDAR
VERSION:2.0
PRODID:-//Nottingham Schools Trust - ECPv4.6.26//NONSGML v1.0//EN
CALSCALE:GREGORIAN
METHOD:PUBLISH
X-WR-CALNAME:Nottingham Schools Trust
X-ORIGINAL-URL:http://www.nottinghamschoolstrust.org.uk
X-WR-CALDESC:Events for Nottingham Schools Trust
BEGIN:VEVENT
DTSTART;TZID=Europe/London:20210201T130000
DTEND;TZID=Europe/London:20210201T150000
DTSTAMP:20260421T052537
CREATED:20201120T125753Z
LAST-MODIFIED:20201120T125753Z
UID:5585-1612184400-1612191600@www.nottinghamschoolstrust.org.uk
SUMMARY:Digital Pathway Champion (Admin) - Session 1
DESCRIPTION:
URL:http://www.nottinghamschoolstrust.org.uk/event/digital-pathway-champion-admin-session-1/
END:VEVENT
END:VCALENDAR