BEGIN:VCALENDAR
VERSION:2.0
PRODID:-//Nottingham Schools Trust - ECPv4.6.26//NONSGML v1.0//EN
CALSCALE:GREGORIAN
METHOD:PUBLISH
X-WR-CALNAME:Nottingham Schools Trust
X-ORIGINAL-URL:http://www.nottinghamschoolstrust.org.uk
X-WR-CALDESC:Events for Nottingham Schools Trust
BEGIN:VEVENT
DTSTART;TZID=Europe/London:20210510T130000
DTEND;TZID=Europe/London:20210510T150000
DTSTAMP:20260420T013144
CREATED:20201120T125915Z
LAST-MODIFIED:20201120T125915Z
UID:5589-1620651600-1620658800@www.nottinghamschoolstrust.org.uk
SUMMARY:Digital Pathway Champion (Admin) - Session 3
DESCRIPTION:
URL:http://www.nottinghamschoolstrust.org.uk/event/digital-pathway-champion-admin-session-3/
END:VEVENT
END:VCALENDAR