BEGIN:VCALENDAR
VERSION:2.0
PRODID:-//Nottingham Schools Trust - ECPv4.6.26//NONSGML v1.0//EN
CALSCALE:GREGORIAN
METHOD:PUBLISH
X-WR-CALNAME:Nottingham Schools Trust
X-ORIGINAL-URL:http://www.nottinghamschoolstrust.org.uk
X-WR-CALDESC:Events for Nottingham Schools Trust
BEGIN:VEVENT
DTSTART;TZID=Europe/London:20210701T130000
DTEND;TZID=Europe/London:20210701T150000
DTSTAMP:20260420T025653
CREATED:20201120T125954Z
LAST-MODIFIED:20201120T125954Z
UID:5591-1625144400-1625151600@www.nottinghamschoolstrust.org.uk
SUMMARY:Digital Pathway Champion (Admin) - Session 4
DESCRIPTION:
URL:http://www.nottinghamschoolstrust.org.uk/event/digital-pathway-champion-admin-session-4/
END:VEVENT
END:VCALENDAR