BEGIN:VCALENDAR
VERSION:2.0
PRODID:-//Nottingham Schools Trust - ECPv4.6.26//NONSGML v1.0//EN
CALSCALE:GREGORIAN
METHOD:PUBLISH
X-WR-CALNAME:Nottingham Schools Trust
X-ORIGINAL-URL:http://www.nottinghamschoolstrust.org.uk
X-WR-CALDESC:Events for Nottingham Schools Trust
BEGIN:VEVENT
DTSTART;TZID=Europe/London:20250520T093000
DTEND;TZID=Europe/London:20250520T120000
DTSTAMP:20260422T221906
CREATED:20240819T110800Z
LAST-MODIFIED:20240819T110800Z
UID:10205-1747733400-1747742400@www.nottinghamschoolstrust.org.uk
SUMMARY:DSL Network (Online Session)
DESCRIPTION:To book: Designated Safeguarding Lead Network- Tuesday 20th May 2025 – Events – Universe \n
URL:http://www.nottinghamschoolstrust.org.uk/event/dsl-network-online-session-2/
END:VEVENT
END:VCALENDAR