BEGIN:VCALENDAR
VERSION:2.0
PRODID:-//Nottingham Schools Trust - ECPv4.6.26//NONSGML v1.0//EN
CALSCALE:GREGORIAN
METHOD:PUBLISH
X-WR-CALNAME:Nottingham Schools Trust
X-ORIGINAL-URL:http://www.nottinghamschoolstrust.org.uk
X-WR-CALDESC:Events for Nottingham Schools Trust
BEGIN:VEVENT
DTSTART;TZID=Europe/London:20200922T093000
DTEND;TZID=Europe/London:20200922T113000
DTSTAMP:20260423T112259
CREATED:20200714T133904Z
LAST-MODIFIED:20200714T133904Z
UID:4804-1600767000-1600774200@www.nottinghamschoolstrust.org.uk
SUMMARY:DSL Part 1 Training - Session 1
DESCRIPTION:For details/to book: https://www.eventbrite.co.uk/o/safeguarding-in-education-team-16467505238 \n  \n
URL:http://www.nottinghamschoolstrust.org.uk/event/dsl-part-1-training-session-1/
END:VEVENT
END:VCALENDAR