BEGIN:VCALENDAR
VERSION:2.0
PRODID:-//Nottingham Schools Trust - ECPv4.6.26//NONSGML v1.0//EN
CALSCALE:GREGORIAN
METHOD:PUBLISH
X-WR-CALNAME:Nottingham Schools Trust
X-ORIGINAL-URL:http://www.nottinghamschoolstrust.org.uk
X-WR-CALDESC:Events for Nottingham Schools Trust
BEGIN:VEVENT
DTSTART;TZID=Europe/London:20240124T090000
DTEND;TZID=Europe/London:20240124T160000
DTSTAMP:20260421T091250
CREATED:20230707T085437Z
LAST-MODIFIED:20230707T085437Z
UID:9186-1706086800-1706112000@www.nottinghamschoolstrust.org.uk
SUMMARY:DSL Part 2 Training
DESCRIPTION:Booking Link: Designated Safeguarding Lead (DSL) Part 2 Tickets\, Wed 24 Jan 2024 at 09:00 | Eventbrite \n
URL:http://www.nottinghamschoolstrust.org.uk/event/dsl-part-2-training-5/
END:VEVENT
END:VCALENDAR