BEGIN:VCALENDAR
VERSION:2.0
PRODID:-//Nottingham Schools Trust - ECPv4.6.26//NONSGML v1.0//EN
CALSCALE:GREGORIAN
METHOD:PUBLISH
X-WR-CALNAME:Nottingham Schools Trust
X-ORIGINAL-URL:http://www.nottinghamschoolstrust.org.uk
X-WR-CALDESC:Events for Nottingham Schools Trust
BEGIN:VEVENT
DTSTART;TZID=Europe/London:20211001T090000
DTEND;TZID=Europe/London:20211001T153000
DTSTAMP:20260419T220148
CREATED:20210714T133451Z
LAST-MODIFIED:20210906T112951Z
UID:6794-1633078800-1633102200@www.nottinghamschoolstrust.org.uk
SUMMARY:DSL Part 2 Training
DESCRIPTION:For further details or to book please visit our Eventbrite page: https://www.eventbrite.com/o/nottingham-schools-trust-19990165449 \n
URL:http://www.nottinghamschoolstrust.org.uk/event/dsl-part-2-training/
LOCATION:Nottingham Nursery School & Training Centre\, Denman Street West\, Radford\, Nottingham\, NG7 3AB
END:VEVENT
END:VCALENDAR