BEGIN:VCALENDAR
VERSION:2.0
PRODID:-//Nottingham Schools Trust - ECPv4.6.26//NONSGML v1.0//EN
CALSCALE:GREGORIAN
METHOD:PUBLISH
X-WR-CALNAME:Nottingham Schools Trust
X-ORIGINAL-URL:http://www.nottinghamschoolstrust.org.uk
X-WR-CALDESC:Events for Nottingham Schools Trust
BEGIN:VEVENT
DTSTART;TZID=Europe/London:20190918T090000
DTEND;TZID=Europe/London:20190918T160000
DTSTAMP:20260423T081659
CREATED:20190916T105715Z
LAST-MODIFIED:20190916T105715Z
UID:3515-1568797200-1568822400@www.nottinghamschoolstrust.org.uk
SUMMARY:DSL Parts 1 & 2 training
DESCRIPTION:This training will take place over 2 dates – 18th and 25th September 2019 (both dates to be attended). \nVisit the City Council’s Safeguarding in Education team Eventbrite page for further details: https://www.eventbrite.co.uk/e/designated-safeguarding-lead-part-1-of-2-roles-and-responsibilities-tickets-64224193291 \n
URL:http://www.nottinghamschoolstrust.org.uk/event/dsl-parts-1-2-training-3/
LOCATION:The College Street Centre  \, College Street\, Nottingham\, NG1 5AQ
END:VEVENT
END:VCALENDAR