BEGIN:VCALENDAR
VERSION:2.0
PRODID:-//Nottingham Schools Trust - ECPv4.6.26//NONSGML v1.0//EN
CALSCALE:GREGORIAN
METHOD:PUBLISH
X-WR-CALNAME:Nottingham Schools Trust
X-ORIGINAL-URL:http://www.nottinghamschoolstrust.org.uk
X-WR-CALDESC:Events for Nottingham Schools Trust
BEGIN:VEVENT
DTSTART;TZID=Europe/London:20191104T090000
DTEND;TZID=Europe/London:20191104T160000
DTSTAMP:20260424T210802
CREATED:20190916T110028Z
LAST-MODIFIED:20190916T110028Z
UID:3519-1572858000-1572883200@www.nottinghamschoolstrust.org.uk
SUMMARY:DSL Parts 1 and 2 Training
DESCRIPTION:This training will take place on 4th and 8th November 2019. \nVisit the City Council’s Safeguarding in Education Team Eventbrite page to book: https://www.eventbrite.co.uk/o/safeguarding-in-education-team-16467505238 \n
URL:http://www.nottinghamschoolstrust.org.uk/event/dsl-parts-1-and-2-training/
LOCATION:Loxley House
END:VEVENT
END:VCALENDAR