BEGIN:VCALENDAR
VERSION:2.0
PRODID:-//Nottingham Schools Trust - ECPv4.6.26//NONSGML v1.0//EN
CALSCALE:GREGORIAN
METHOD:PUBLISH
X-WR-CALNAME:Nottingham Schools Trust
X-ORIGINAL-URL:http://www.nottinghamschoolstrust.org.uk
X-WR-CALDESC:Events for Nottingham Schools Trust
BEGIN:VEVENT
DTSTART;TZID=Europe/London:20220517T093000
DTEND;TZID=Europe/London:20220517T153000
DTSTAMP:20260425T154841
CREATED:20210714T134022Z
LAST-MODIFIED:20210714T134022Z
UID:6804-1652779800-1652801400@www.nottinghamschoolstrust.org.uk
SUMMARY:DSL 'Train the Trainer' training
DESCRIPTION:For further details or to book please visit our Eventbrite page: https://www.eventbrite.com/o/nottingham-schools-trust-19990165449 \n
URL:http://www.nottinghamschoolstrust.org.uk/event/dsl-train-the-trainer-training/
LOCATION:Nottingham Nursery School & Training Centre\, Denman Street West\, Radford\, Nottingham\, NG7 3AB
END:VEVENT
END:VCALENDAR