BEGIN:VCALENDAR
VERSION:2.0
PRODID:-//Nottingham Schools Trust - ECPv4.6.26//NONSGML v1.0//EN
CALSCALE:GREGORIAN
METHOD:PUBLISH
X-WR-CALNAME:Nottingham Schools Trust
X-ORIGINAL-URL:http://www.nottinghamschoolstrust.org.uk
X-WR-CALDESC:Events for Nottingham Schools Trust
BEGIN:VEVENT
DTSTART;TZID=Europe/London:20211013T150000
DTEND;TZID=Europe/London:20211013T163000
DTSTAMP:20260419T222447
CREATED:20210714T132828Z
LAST-MODIFIED:20210714T132828Z
UID:6784-1634137200-1634142600@www.nottinghamschoolstrust.org.uk
SUMMARY:DSL Training - How to make a strong MARF referral
DESCRIPTION:For further details or to book\, please visit our Eventbrite page: https://www.eventbrite.com/o/nottingham-schools-trust-19990165449 \n
URL:http://www.nottinghamschoolstrust.org.uk/event/dsl-training-how-to-make-a-strong-marf-referral/
END:VEVENT
END:VCALENDAR