BEGIN:VCALENDAR
VERSION:2.0
PRODID:-//Nottingham Schools Trust - ECPv4.6.26//NONSGML v1.0//EN
CALSCALE:GREGORIAN
METHOD:PUBLISH
X-WR-CALNAME:Nottingham Schools Trust
X-ORIGINAL-URL:http://www.nottinghamschoolstrust.org.uk
X-WR-CALDESC:Events for Nottingham Schools Trust
BEGIN:VEVENT
DTSTART;TZID=Europe/London:20201203T153000
DTEND;TZID=Europe/London:20201203T170000
DTSTAMP:20260419T123242
CREATED:20201022T113209Z
LAST-MODIFIED:20201022T113209Z
UID:5370-1607009400-1607014800@www.nottinghamschoolstrust.org.uk
SUMMARY:DSL Training: Recording Safeguarding concerns effectively at a school level
DESCRIPTION:This is a repeat of the training session that took place on 9th October. \n  \nFor further details/to book\, follow this link: https://www.eventbrite.com/e/dsl-training-recording-safeguarding-concerns-effectively-at-a-school-level-tickets-126402773097 \n
URL:http://www.nottinghamschoolstrust.org.uk/event/dsl-training-recording-safeguarding-concerns-effectively-at-a-school-level-2/
END:VEVENT
END:VCALENDAR