BEGIN:VCALENDAR
VERSION:2.0
PRODID:-//Nottingham Schools Trust - ECPv4.6.26//NONSGML v1.0//EN
CALSCALE:GREGORIAN
METHOD:PUBLISH
X-WR-CALNAME:Nottingham Schools Trust
X-ORIGINAL-URL:http://www.nottinghamschoolstrust.org.uk
X-WR-CALDESC:Events for Nottingham Schools Trust
BEGIN:VEVENT
DTSTART;TZID=Europe/London:20211125T131500
DTEND;TZID=Europe/London:20211125T150000
DTSTAMP:20260419T190152
CREATED:20210714T132939Z
LAST-MODIFIED:20210714T132939Z
UID:6786-1637846100-1637852400@www.nottinghamschoolstrust.org.uk
SUMMARY:DSL Update Training
DESCRIPTION:For further details/to book\, please visit our Eventbrite page: https://www.eventbrite.com/o/nottingham-schools-trust-19990165449 \n
URL:http://www.nottinghamschoolstrust.org.uk/event/dsl-update-training-10/
LOCATION:Nottingham Nursery School & Training Centre\, Denman Street West\, Radford\, Nottingham\, NG7 3AB
END:VEVENT
END:VCALENDAR