BEGIN:VCALENDAR
VERSION:2.0
PRODID:-//Nottingham Schools Trust - ECPv4.6.26//NONSGML v1.0//EN
CALSCALE:GREGORIAN
METHOD:PUBLISH
X-WR-CALNAME:Nottingham Schools Trust
X-ORIGINAL-URL:http://www.nottinghamschoolstrust.org.uk
X-WR-CALDESC:Events for Nottingham Schools Trust
BEGIN:VEVENT
DTSTART;TZID=Europe/London:20220323T131500
DTEND;TZID=Europe/London:20220323T150000
DTSTAMP:20260424T203413
CREATED:20210714T133049Z
LAST-MODIFIED:20210714T133049Z
UID:6788-1648041300-1648047600@www.nottinghamschoolstrust.org.uk
SUMMARY:DSL Update Training
DESCRIPTION:For further information or to book\, please visit our Eventbrite page: https://www.eventbrite.com/o/nottingham-schools-trust-19990165449 \n
URL:http://www.nottinghamschoolstrust.org.uk/event/dsl-update-training-11/
LOCATION:Nottingham Nursery School & Training Centre\, Denman Street West\, Radford\, Nottingham\, NG7 3AB
END:VEVENT
END:VCALENDAR