BEGIN:VCALENDAR
VERSION:2.0
PRODID:-//Nottingham Schools Trust - ECPv4.6.26//NONSGML v1.0//EN
CALSCALE:GREGORIAN
METHOD:PUBLISH
X-WR-CALNAME:Nottingham Schools Trust
X-ORIGINAL-URL:http://www.nottinghamschoolstrust.org.uk
X-WR-CALDESC:Events for Nottingham Schools Trust
BEGIN:VEVENT
DTSTART;TZID=Europe/London:20260520T160000
DTEND;TZID=Europe/London:20260520T173000
DTSTAMP:20260422T015140
CREATED:20250701T131842Z
LAST-MODIFIED:20250701T131842Z
UID:10849-1779292800-1779298200@www.nottinghamschoolstrust.org.uk
SUMMARY:Early Years Network Meeting
DESCRIPTION:For more info / to book: Early Years Network Meeting – Universe \n
URL:http://www.nottinghamschoolstrust.org.uk/event/early-years-network-meeting-12/
END:VEVENT
END:VCALENDAR