BEGIN:VCALENDAR
VERSION:2.0
PRODID:-//Nottingham Schools Trust - ECPv4.6.26//NONSGML v1.0//EN
CALSCALE:GREGORIAN
METHOD:PUBLISH
X-WR-CALNAME:Nottingham Schools Trust
X-ORIGINAL-URL:http://www.nottinghamschoolstrust.org.uk
X-WR-CALDESC:Events for Nottingham Schools Trust
BEGIN:VEVENT
DTSTART;TZID=Europe/London:20211118T160000
DTEND;TZID=Europe/London:20211118T173000
DTSTAMP:20260419T203141
CREATED:20210524T095558Z
LAST-MODIFIED:20210524T095558Z
UID:6577-1637251200-1637256600@www.nottinghamschoolstrust.org.uk
SUMMARY:Early Years Network Meeting
DESCRIPTION:
URL:http://www.nottinghamschoolstrust.org.uk/event/early-years-network-meeting-6/
END:VEVENT
END:VCALENDAR