BEGIN:VCALENDAR
VERSION:2.0
PRODID:-//Nottingham Schools Trust - ECPv4.6.26//NONSGML v1.0//EN
CALSCALE:GREGORIAN
METHOD:PUBLISH
X-WR-CALNAME:Nottingham Schools Trust
X-ORIGINAL-URL:http://www.nottinghamschoolstrust.org.uk
X-WR-CALDESC:Events for Nottingham Schools Trust
BEGIN:VEVENT
DTSTART;TZID=Europe/London:20220310T160000
DTEND;TZID=Europe/London:20220310T173000
DTSTAMP:20260422T105124
CREATED:20210524T095642Z
LAST-MODIFIED:20210524T095642Z
UID:6579-1646928000-1646933400@www.nottinghamschoolstrust.org.uk
SUMMARY:Early Years Network Meeting
DESCRIPTION:
URL:http://www.nottinghamschoolstrust.org.uk/event/early-years-network-meeting-7/
END:VEVENT
END:VCALENDAR