BEGIN:VCALENDAR
VERSION:2.0
PRODID:-//Nottingham Schools Trust - ECPv4.6.26//NONSGML v1.0//EN
CALSCALE:GREGORIAN
METHOD:PUBLISH
X-WR-CALNAME:Nottingham Schools Trust
X-ORIGINAL-URL:http://www.nottinghamschoolstrust.org.uk
X-WR-CALDESC:Events for Nottingham Schools Trust
BEGIN:VEVENT
DTSTART;TZID=Europe/London:20200213T093000
DTEND;TZID=Europe/London:20200213T120000
DTSTAMP:20260425T034553
CREATED:20200107T104303Z
LAST-MODIFIED:20200107T104303Z
UID:3814-1581586200-1581595200@www.nottinghamschoolstrust.org.uk
SUMMARY:Effective Monitoring in the EYFS - for Headteachers and Assessment Leads
DESCRIPTION:For further information or to book visit our Eventbrite page: https://www.eventbrite.com/e/effective-monitoring-in-the-eyfs-for-headteachers-and-assessment-leads-tickets-84140884651 \n
URL:http://www.nottinghamschoolstrust.org.uk/event/effective-monitoring-in-the-eyfs-for-headteachers-and-assessment-leads/
LOCATION:Nottingham Nursery School & Training Centre\, Denman Street West\, Radford\, Nottingham\, NG7 3AB
END:VEVENT
END:VCALENDAR