BEGIN:VCALENDAR
VERSION:2.0
PRODID:-//Nottingham Schools Trust - ECPv4.6.26//NONSGML v1.0//EN
CALSCALE:GREGORIAN
METHOD:PUBLISH
X-WR-CALNAME:Nottingham Schools Trust
X-ORIGINAL-URL:http://www.nottinghamschoolstrust.org.uk
X-WR-CALDESC:Events for Nottingham Schools Trust
BEGIN:VEVENT
DTSTART;TZID=Europe/London:20231107T131500
DTEND;TZID=Europe/London:20231107T160000
DTSTAMP:20260422T194232
CREATED:20230706T130504Z
LAST-MODIFIED:20230706T130504Z
UID:9100-1699362900-1699372800@www.nottinghamschoolstrust.org.uk
SUMMARY:English Network
DESCRIPTION:Meetings will be available to book via our Eventbrite page at the beginning of each term: https://www.eventbrite.com/o/nottingham-schools-trust-19990165449 \n  \n
URL:http://www.nottinghamschoolstrust.org.uk/event/english-network-4/
END:VEVENT
END:VCALENDAR