BEGIN:VCALENDAR
VERSION:2.0
PRODID:-//Nottingham Schools Trust - ECPv4.6.26//NONSGML v1.0//EN
CALSCALE:GREGORIAN
METHOD:PUBLISH
X-WR-CALNAME:Nottingham Schools Trust
X-ORIGINAL-URL:http://www.nottinghamschoolstrust.org.uk
X-WR-CALDESC:Events for Nottingham Schools Trust
BEGIN:VEVENT
DTSTART;TZID=Europe/London:20210610T133000
DTEND;TZID=Europe/London:20210610T153000
DTSTAMP:20260420T061233
CREATED:20200914T092046Z
LAST-MODIFIED:20200914T092046Z
UID:5017-1623331800-1623339000@www.nottinghamschoolstrust.org.uk
SUMMARY:English Network Meeting
DESCRIPTION:For more information: https://www.eventbrite.co.uk/e/english-june-network-tickets-115746335405 \n
URL:http://www.nottinghamschoolstrust.org.uk/event/english-network-meeting-3/
END:VEVENT
END:VCALENDAR