BEGIN:VCALENDAR
VERSION:2.0
PRODID:-//Nottingham Schools Trust - ECPv4.6.26//NONSGML v1.0//EN
CALSCALE:GREGORIAN
METHOD:PUBLISH
X-WR-CALNAME:Nottingham Schools Trust
X-ORIGINAL-URL:http://www.nottinghamschoolstrust.org.uk
X-WR-CALDESC:Events for Nottingham Schools Trust
BEGIN:VEVENT
DTSTART;TZID=Europe/London:20201008T133000
DTEND;TZID=Europe/London:20201008T150000
DTSTAMP:20260420T082052
CREATED:20200914T090705Z
LAST-MODIFIED:20200914T090705Z
UID:5009-1602163800-1602169200@www.nottinghamschoolstrust.org.uk
SUMMARY:English Network
DESCRIPTION:For more information: https://www.eventbrite.co.uk/e/english-october-network-tickets-115027959724 \n
URL:http://www.nottinghamschoolstrust.org.uk/event/english-network/
END:VEVENT
END:VCALENDAR