BEGIN:VCALENDAR
VERSION:2.0
PRODID:-//Nottingham Schools Trust - ECPv4.6.26//NONSGML v1.0//EN
CALSCALE:GREGORIAN
METHOD:PUBLISH
X-WR-CALNAME:Nottingham Schools Trust
X-ORIGINAL-URL:http://www.nottinghamschoolstrust.org.uk
X-WR-CALDESC:Events for Nottingham Schools Trust
BEGIN:VEVENT
DTSTART;TZID=Europe/London:20190618T091500
DTEND;TZID=Europe/London:20190618T114500
DTSTAMP:20260420T045524
CREATED:20180628T135302Z
LAST-MODIFIED:20190326T134200Z
UID:1221-1560849300-1560858300@www.nottinghamschoolstrust.org.uk
SUMMARY:English Summer Network Meeting
DESCRIPTION:Organised by the NCC Primary Teaching and Learning Team.  Tickets can be booked on Eventbrite here: \nhttps://www.eventbrite.co.uk/e/english-summer-network-tickets-46190424804 \nContact (0115) 8764560 for further details. \n  \n
URL:http://www.nottinghamschoolstrust.org.uk/event/english-summer-network-meeting/
LOCATION:DoubleTree Hilton – Nottingham Gateway\, Nuthall Road\, Nottingham\, NG8 6AZ
END:VEVENT
END:VCALENDAR