BEGIN:VCALENDAR
VERSION:2.0
PRODID:-//Nottingham Schools Trust - ECPv4.6.26//NONSGML v1.0//EN
CALSCALE:GREGORIAN
METHOD:PUBLISH
X-WR-CALNAME:Nottingham Schools Trust
X-ORIGINAL-URL:http://www.nottinghamschoolstrust.org.uk
X-WR-CALDESC:Events for Nottingham Schools Trust
BEGIN:VEVENT
DTSTART;TZID=Europe/London:20231107T130000
DTEND;TZID=Europe/London:20231107T160000
DTSTAMP:20260422T211036
CREATED:20230630T114657Z
LAST-MODIFIED:20230630T115750Z
UID:9008-1699362000-1699372800@www.nottinghamschoolstrust.org.uk
SUMMARY:F1 Agreement Trialling (in person event)
DESCRIPTION:To book a place: Early Years Course Booking – Course Details – Nottingham City Council \n
URL:http://www.nottinghamschoolstrust.org.uk/event/f1-agreement-trialling-2/
LOCATION:Castle Cavendish
END:VEVENT
END:VCALENDAR