BEGIN:VCALENDAR
VERSION:2.0
PRODID:-//Nottingham Schools Trust - ECPv4.6.26//NONSGML v1.0//EN
CALSCALE:GREGORIAN
METHOD:PUBLISH
X-WR-CALNAME:Nottingham Schools Trust
X-ORIGINAL-URL:http://www.nottinghamschoolstrust.org.uk
X-WR-CALDESC:Events for Nottingham Schools Trust
BEGIN:VEVENT
DTSTART;TZID=Europe/London:20241105T130000
DTEND;TZID=Europe/London:20241105T160000
DTSTAMP:20260420T013104
CREATED:20240819T092613Z
LAST-MODIFIED:20240819T092613Z
UID:10111-1730811600-1730822400@www.nottinghamschoolstrust.org.uk
SUMMARY:F1 Agreement Trialling
DESCRIPTION:Topic – Personal\, Social and Emotional Development\, and Communication and Language \nTo book: Early Years Course Booking – Course Details – Nottingham City Council \n
URL:http://www.nottinghamschoolstrust.org.uk/event/f1-agreement-trialling-4/
LOCATION:Castle Cavendish
END:VEVENT
END:VCALENDAR