BEGIN:VCALENDAR
VERSION:2.0
PRODID:-//Nottingham Schools Trust - ECPv4.6.26//NONSGML v1.0//EN
CALSCALE:GREGORIAN
METHOD:PUBLISH
X-WR-CALNAME:Nottingham Schools Trust
X-ORIGINAL-URL:http://www.nottinghamschoolstrust.org.uk
X-WR-CALDESC:Events for Nottingham Schools Trust
BEGIN:VEVENT
DTSTART;TZID=Europe/London:20240305T090000
DTEND;TZID=Europe/London:20240305T120000
DTSTAMP:20260422T135458
CREATED:20230630T120342Z
LAST-MODIFIED:20230630T120342Z
UID:9024-1709629200-1709640000@www.nottinghamschoolstrust.org.uk
SUMMARY:F1 Agreement Trialling (in person event)
DESCRIPTION:To book a place: Early Years Course Booking – Course Details – Nottingham City Council \n
URL:http://www.nottinghamschoolstrust.org.uk/event/f1-agreement-trialling-in-person-event/
LOCATION:Castle Cavendish
END:VEVENT
END:VCALENDAR