BEGIN:VCALENDAR
VERSION:2.0
PRODID:-//Nottingham Schools Trust - ECPv4.6.26//NONSGML v1.0//EN
CALSCALE:GREGORIAN
METHOD:PUBLISH
X-WR-CALNAME:Nottingham Schools Trust
X-ORIGINAL-URL:http://www.nottinghamschoolstrust.org.uk
X-WR-CALDESC:Events for Nottingham Schools Trust
BEGIN:VEVENT
DTSTART;TZID=Europe/London:20250305T090000
DTEND;TZID=Europe/London:20250305T113000
DTSTAMP:20260420T074719
CREATED:20240819T100440Z
LAST-MODIFIED:20240819T100440Z
UID:10132-1741165200-1741174200@www.nottinghamschoolstrust.org.uk
SUMMARY:F1 Agreement Trialling - Online Session
DESCRIPTION:Topic – Expressive Arts and Design and Literacy. \nTo book: Early Years Course Booking – Course Details – Nottingham City Council \n
URL:http://www.nottinghamschoolstrust.org.uk/event/f1-agreement-trialling-online-session-3/
END:VEVENT
END:VCALENDAR