BEGIN:VCALENDAR
VERSION:2.0
PRODID:-//Nottingham Schools Trust - ECPv4.6.26//NONSGML v1.0//EN
CALSCALE:GREGORIAN
METHOD:PUBLISH
X-WR-CALNAME:Nottingham Schools Trust
X-ORIGINAL-URL:http://www.nottinghamschoolstrust.org.uk
X-WR-CALDESC:Events for Nottingham Schools Trust
BEGIN:VEVENT
DTSTART;TZID=Europe/London:20241127T090000
DTEND;TZID=Europe/London:20241127T113000
DTSTAMP:20260420T013154
CREATED:20240819T093535Z
LAST-MODIFIED:20240819T093616Z
UID:10121-1732698000-1732707000@www.nottinghamschoolstrust.org.uk
SUMMARY:F2 Agreement Trialling - Online Session
DESCRIPTION:Topic – Personal\, Social and Emotional Development\, and Expressive Arts and Design \nTo book: Early Years Course Booking – Course Details – Nottingham City Council \n
URL:http://www.nottinghamschoolstrust.org.uk/event/f2-agreement-trialling-online-session/
END:VEVENT
END:VCALENDAR