BEGIN:VCALENDAR
VERSION:2.0
PRODID:-//Nottingham Schools Trust - ECPv4.6.26//NONSGML v1.0//EN
CALSCALE:GREGORIAN
METHOD:PUBLISH
X-WR-CALNAME:Nottingham Schools Trust
X-ORIGINAL-URL:http://www.nottinghamschoolstrust.org.uk
X-WR-CALDESC:Events for Nottingham Schools Trust
BEGIN:VEVENT
DTSTART;TZID=Europe/London:20201125T140000
DTEND;TZID=Europe/London:20201125T160000
DTSTAMP:20260420T081921
CREATED:20201022T111759Z
LAST-MODIFIED:20201022T111759Z
UID:5360-1606312800-1606320000@www.nottinghamschoolstrust.org.uk
SUMMARY:Forging Ahead Programme for Senior Leaders - Session 1
DESCRIPTION:For further details/to book\, follow this link: https://www.eventbrite.com/e/forging-ahead-nst-programme-for-senior-leaders-session-1-tickets-125473682161 \n
URL:http://www.nottinghamschoolstrust.org.uk/event/forging-ahead-programme-for-senior-leaders-session-1/
END:VEVENT
END:VCALENDAR