BEGIN:VCALENDAR
VERSION:2.0
PRODID:-//Nottingham Schools Trust - ECPv4.6.26//NONSGML v1.0//EN
CALSCALE:GREGORIAN
METHOD:PUBLISH
X-WR-CALNAME:Nottingham Schools Trust
X-ORIGINAL-URL:http://www.nottinghamschoolstrust.org.uk
X-WR-CALDESC:Events for Nottingham Schools Trust
BEGIN:VEVENT
DTSTART;TZID=Europe/London:20210303T123000
DTEND;TZID=Europe/London:20210303T160000
DTSTAMP:20260422T041748
CREATED:20201022T112057Z
LAST-MODIFIED:20201022T112057Z
UID:5364-1614774600-1614787200@www.nottinghamschoolstrust.org.uk
SUMMARY:Forging Ahead Programme for Senior Leaders - Session 2
DESCRIPTION:For further details/to book\, follow this link: https://www.eventbrite.com/e/forging-ahead-nst-programme-for-senior-leaders-session-2-tickets-125476520651 \n
URL:http://www.nottinghamschoolstrust.org.uk/event/forging-ahead-programme-for-senior-leaders-session-2/
END:VEVENT
END:VCALENDAR