BEGIN:VCALENDAR
VERSION:2.0
PRODID:-//Nottingham Schools Trust - ECPv4.6.26//NONSGML v1.0//EN
CALSCALE:GREGORIAN
METHOD:PUBLISH
X-WR-CALNAME:Nottingham Schools Trust
X-ORIGINAL-URL:http://www.nottinghamschoolstrust.org.uk
X-WR-CALDESC:Events for Nottingham Schools Trust
BEGIN:VEVENT
DTSTART;TZID=Europe/London:20250210T131500
DTEND;TZID=Europe/London:20250210T161500
DTSTAMP:20260420T060210
CREATED:20240815T150651Z
LAST-MODIFIED:20241204T124949Z
UID:10071-1739193300-1739204100@www.nottinghamschoolstrust.org.uk
SUMMARY:Geography Network
DESCRIPTION:Booking link: https://www.universe.com/events/geography-network-meeting-tickets-3F71M9 \n
URL:http://www.nottinghamschoolstrust.org.uk/event/geography-network-8/
LOCATION:Nottingham Nursery School & Training Centre\, Denman Street West\, Radford\, Nottingham\, NG7 3AB
END:VEVENT
END:VCALENDAR