BEGIN:VCALENDAR
VERSION:2.0
PRODID:-//Nottingham Schools Trust - ECPv4.6.26//NONSGML v1.0//EN
CALSCALE:GREGORIAN
METHOD:PUBLISH
X-WR-CALNAME:Nottingham Schools Trust
X-ORIGINAL-URL:http://www.nottinghamschoolstrust.org.uk
X-WR-CALDESC:Events for Nottingham Schools Trust
BEGIN:VEVENT
DTSTART;TZID=Europe/London:20210504T160000
DTEND;TZID=Europe/London:20210504T170000
DTSTAMP:20260419T204826
CREATED:20210504T091531Z
LAST-MODIFIED:20210504T091549Z
UID:6470-1620144000-1620147600@www.nottinghamschoolstrust.org.uk
SUMMARY:Geography Network Meeting
DESCRIPTION:For further details or to book a place visit our Eventbrite page: https://www.eventbrite.com/o/nottingham-schools-trust-19990165449 \n
URL:http://www.nottinghamschoolstrust.org.uk/event/geography-network-meeting-3/
END:VEVENT
END:VCALENDAR