BEGIN:VCALENDAR
VERSION:2.0
PRODID:-//Nottingham Schools Trust - ECPv4.6.26//NONSGML v1.0//EN
CALSCALE:GREGORIAN
METHOD:PUBLISH
X-WR-CALNAME:Nottingham Schools Trust
X-ORIGINAL-URL:http://www.nottinghamschoolstrust.org.uk
X-WR-CALDESC:Events for Nottingham Schools Trust
BEGIN:VEVENT
DTSTART;TZID=Europe/London:20200129T083000
DTEND;TZID=Europe/London:20200129T153000
DTSTAMP:20260425T034313
CREATED:20190827T125608Z
LAST-MODIFIED:20190827T125608Z
UID:3315-1580286600-1580311800@www.nottinghamschoolstrust.org.uk
SUMMARY:GROW Reading Project\, with Rosie Taylor
DESCRIPTION:The venue for this meeting is yet to be confirmed. \n
URL:http://www.nottinghamschoolstrust.org.uk/event/grow-reading-project-with-rosie-taylor-2/
END:VEVENT
END:VCALENDAR