BEGIN:VCALENDAR
VERSION:2.0
PRODID:-//Nottingham Schools Trust - ECPv4.6.26//NONSGML v1.0//EN
CALSCALE:GREGORIAN
METHOD:PUBLISH
X-WR-CALNAME:Nottingham Schools Trust
X-ORIGINAL-URL:http://www.nottinghamschoolstrust.org.uk
X-WR-CALDESC:Events for Nottingham Schools Trust
BEGIN:VEVENT
DTSTART;TZID=Europe/London:20191106T090000
DTEND;TZID=Europe/London:20191106T163000
DTSTAMP:20260425T000327
CREATED:20190827T112326Z
LAST-MODIFIED:20190827T112326Z
UID:3286-1573030800-1573057800@www.nottinghamschoolstrust.org.uk
SUMMARY:GROW Reading Project with Rosie Taylor
DESCRIPTION:The venue for this meeting is to be confirmed. \n
URL:http://www.nottinghamschoolstrust.org.uk/event/grow-reading-project-with-rosie-taylor/
END:VEVENT
END:VCALENDAR