BEGIN:VCALENDAR
VERSION:2.0
PRODID:-//Nottingham Schools Trust - ECPv4.6.26//NONSGML v1.0//EN
CALSCALE:GREGORIAN
METHOD:PUBLISH
X-WR-CALNAME:Nottingham Schools Trust
X-ORIGINAL-URL:http://www.nottinghamschoolstrust.org.uk
X-WR-CALDESC:Events for Nottingham Schools Trust
BEGIN:VEVENT
DTSTART;TZID=Europe/London:20241107T090000
DTEND;TZID=Europe/London:20241107T160000
DTSTAMP:20260420T031557
CREATED:20240815T124749Z
LAST-MODIFIED:20240815T124749Z
UID:10039-1730970000-1730995200@www.nottinghamschoolstrust.org.uk
SUMMARY:Historic England - Heritage Schools Programme - Full Training Day
DESCRIPTION:\n Full-Day Training in Nottingham (7th November):\nThe next session will be a full-day event at Nottingham Castle. Participants will receive a bespoke map and aerial photograph pack\, along with training on how to utilise these materials in various ways with your pupils. You will also learn how to develop your local history unit and receive additional resources and support. The day will include a heritage trail around central Nottingham\, where you will uncover the hidden histories of the area and learn to use ‘standing archaeology’ as primary evidence within your history curriculum. Please note\, although the event is free to schools\, the resources provided\, and the venue incur a considerable cost. Schools may be asked to cover this cost if the school sign up and then do not attend without giving reasonable notice.\n\nTo book your place please register with this link: \nhttps://www.eventbrite.co.uk/e/embedding-the-local-history-and-heritage-into-your-school-curriculum-tickets-940899645167?aff=oddtdtcreator \nFor more information about the training sessions\, or if the Eventbrite link tells you that the session is sold out\,  please contact Ismail at Ismail.Dale@historicengland.org.uk . \n
URL:http://www.nottinghamschoolstrust.org.uk/event/historic-england-heritage-schools-programme-full-training-day/
END:VEVENT
END:VCALENDAR