BEGIN:VCALENDAR
VERSION:2.0
PRODID:-//Nottingham Schools Trust - ECPv4.6.26//NONSGML v1.0//EN
CALSCALE:GREGORIAN
METHOD:PUBLISH
X-WR-CALNAME:Nottingham Schools Trust
X-ORIGINAL-URL:http://www.nottinghamschoolstrust.org.uk
X-WR-CALDESC:Events for Nottingham Schools Trust
BEGIN:VEVENT
DTSTART;TZID=Europe/London:20260521T153000
DTEND;TZID=Europe/London:20260521T173000
DTSTAMP:20260422T031612
CREATED:20250701T132022Z
LAST-MODIFIED:20250701T132022Z
UID:10851-1779377400-1779384600@www.nottinghamschoolstrust.org.uk
SUMMARY:History Network Meeting
DESCRIPTION:For more info / to book: History Network Meeting – Universe \n
URL:http://www.nottinghamschoolstrust.org.uk/event/history-network-meeting-6/
END:VEVENT
END:VCALENDAR