BEGIN:VCALENDAR
VERSION:2.0
PRODID:-//Nottingham Schools Trust - ECPv4.6.26//NONSGML v1.0//EN
CALSCALE:GREGORIAN
METHOD:PUBLISH
X-WR-CALNAME:Nottingham Schools Trust
X-ORIGINAL-URL:http://www.nottinghamschoolstrust.org.uk
X-WR-CALDESC:Events for Nottingham Schools Trust
BEGIN:VEVENT
DTSTART;TZID=Europe/London:20251113T160000
DTEND;TZID=Europe/London:20251113T173000
DTSTAMP:20260422T164732
CREATED:20250701T120543Z
LAST-MODIFIED:20250701T120543Z
UID:10812-1763049600-1763055000@www.nottinghamschoolstrust.org.uk
SUMMARY:Inclusion Network Meeting
DESCRIPTION:For more info / to book: Inclusion Network Meeting – Universe \n
URL:http://www.nottinghamschoolstrust.org.uk/event/inclusion-network-meeting-8/
END:VEVENT
END:VCALENDAR